{"text_format":"1","workbook":"xlsx","n_sheets":8,"sheets":["Диалог1","Теплопритоки","Цикл и аппараты","Списки","Таблицы","R22","Свойсва продуктов","Свойства воздуха"],"not_rendered":{"charts":7,"images":1,"macros":1,"external_links":0,"defined_names":4,"comments":4,"pivot_tables":0},"unopened":[{"sheet":"Диалог1","index":0,"reason":"not_a_worksheet"}],"bounds":{"document_bytes":16777216,"sheet_cells":100000,"rows_first":2000,"rows_last":500,"rows_between":2000,"halvings":0,"cell_chars":16384,"cell_head_chars":4096},"cells_cut":0,"cells_raw":0,"read":"whole","date_system":"1900"}

{"sheet":"Теплопритоки","index":1,"n_rows":60,"n_cols":10,"rows_kept":60,"cut":false,"hidden":false,"merged":[[13,6,13,7],[14,4,14,5],[34,2,34,4],[22,6,22,7],[29,4,29,5],[30,4,30,5],[23,4,23,5],[15,4,15,5],[19,4,19,5],[17,4,17,5],[8,4,8,5],[0,2,0,6],[4,4,4,5],[5,4,5,5],[6,4,6,5],[4,0,4,2],[5,0,5,2],[9,4,9,5],[7,0,7,3],[49,1,49,4],[50,1,50,4],[27,4,27,5],[41,2,41,4],[28,4,28,5],[35,2,35,4],[38,2,38,4],[37,2,37,4],[7,4,7,5],[12,0,12,2],[16,4,16,5],[18,4,18,5],[20,4,20,5],[8,0,9,2],[63,4,63,5],[10,4,10,5],[12,4,12,5],[11,4,11,5],[13,4,13,5],[64,4,64,5],[59,0,59,5],[21,4,21,5],[56,1,56,4],[55,1,55,4],[51,1,51,4],[54,1,54,4],[26,4,26,5],[53,1,53,4],[24,4,24,5],[25,4,25,5],[22,4,22,5],[52,1,52,4],[44,2,44,4],[48,1,48,4],[47,1,47,4]]}
[]
[null,null,null,null,null,"Расчёт теплопритоков для"]
[null,null,null,null,null,"стационарной камеры"]
[]
["Заказчик:",null,null,null,"Исходные данные:"]
[null,null,null,null,"Температура в камере",null,"Tкам, 0С",3]
[null,null,null,null,"Температура окр. среды",null,"Tо.с., 0С",35]
["Характеристика процесса:",null,null,null,"Высота камеры  ",null,"H, м",4]
[null,null,null,null,"Длина камеры    ",null,"L, м",30]
[null,null,null,null,"Ширина камеры    ",null,"B, м",15]
[null,null,null,null,"Высота двери  ",null,"b, м",3]
[null,null,null,null,"Ширина двери    ",null,"c, м",3]
["     Назначение камеры:",null,null,null,"Количество дверей",null,"шт.",1]
[null,null,null,null,"Вид продукта",null,"шт.",null,null,{"$f":"CHOOSE(Списки!B5,Списки!D2,Списки!D3,Списки!D4)","v":0.3}]
[null,null,null,null,"Температура входящего продукта",null,"Tвх, 0С",8]
[null,null,null,null,"Температура выходящего продукта",null,"Tвых, 0С",3]
[null,null,null,null,"Величина одной загрузки",null,"m, кг",28000]
[null,null,null,null,"Длительность процесса",null,"tпр, ч",24]
[null,null,null,null,"Плотность загрузки",null,"кг/м3",73]
[null,null,null,null,"Общее количество продукта в камере",null,"М, кг"]
[null,null,null,null,"Число работающих погрузчиков",null,"nпогр, шт.",1]
[null,null,null,null,"Время работы погрузчиков",null,"tзагр, час",8]
[null,null,null,null,"Материал тары",null,"Алюминий"]
[null,null,null,null,"Процент тары от массы продукта",null,"%"]
[null,null,null,null,"Кратность вентиляции в сутки",null,"ав",1]
[null,null,null,null,"Теплозащита двери камеры",null,"h",0,null,{"$f":"CHOOSE(Списки!G22,Списки!H18,Списки!H19,Списки!H20,Списки!H21)","v":0.6}]
[null,null,null,null,"Тип изоляции стен и потолка",null,null,15]
[null,null,null,null,"Толщина изоляции камеры (ППС)",null,"dиз, мм",180]
[null,null,null,null,"Тип изоляции пола",null,null,{"$f":"ROUND((3.3333*(H7-H6) + 5.8333)/10,0)*10","v":110}]
[null,null,null,null,"Толщина изоляции пола",null,"dиз, мм",100]
[null,null,null,null,"Конструкция пола",null,null,null,null,{"$f":"CHOOSE(Списки!B39,Списки!D37,Списки!D38)","v":6}]
[]
[null,null,"Расчётные данные:"]
[null,null,"Объём камеры  ",null,null,"V, м3",{"$f":"H8*H9*H10","v":1800}]
[null,null,"Площадь стен и потолка",null,null,"F, м2",{"$f":"2*H8*H9+2*H8*H10+H9*H10","v":810}]
[null,null,"Площадь пола",null,null,"Fпол, м2",{"$f":"H9*H10","v":450}]
[null,null,"Площадь двери камеры",null,null,"Fдв, м2",{"$f":"H11*H12","v":9}]
[null,null,"Коэффициент теплопередачи стенок",null,null,"к, Вт/(м2 К)",{"$f":"CHOOSE(Списки!B23,Списки!D20,Списки!D21,Списки!D22)","v":0.33333333333333331}]
[null,null,"Коэффициент теплопередачи пола",null,null,"кпол, Вт/(м2 К)",{"$f":"CHOOSE(Списки!B33,Списки!D27,Списки!D28,Списки!D29,Списки!D30,Списки!D31)","v":17}]
[null,null,"Теплоёмкость свежего продукта",null,null,"С1, кДж/(кг К)",{"$f":"CHOOSE(Списки!G14,Списки!H2,Списки!H3,Списки!H4,Списки!H5,Списки!H6,Списки!H7,Списки!H8,Списки!H9,Списки!H10,Списки!H11,Списки!H12,Списки!H13)","v":4.0999999999999996}]
[null,null,"Теплоёмкость морож. продукта",null,null,"С2, кДж/(кг К)",{"$f":"CHOOSE(Списки!G14,Списки!I2,Списки!I3,Списки!I4,Списки!I5,Списки!I6,Списки!I7,Списки!I8,Списки!I9,Списки!I10,Списки!I11,Списки!I12,Списки!I13)","v":2.1}]
[null,null,"Теплота замораживания продукта",null,null,"qзам, кДж/(кг сут)",{"$f":"CHOOSE(Списки!G14,Списки!J2,Списки!J3,Списки!J4,Списки!J5,Списки!J6,Списки!J7,Списки!J8,Списки!J9,Списки!J10,Списки!J11,Списки!J12,Списки!J13)","v":319}]
[null,null,"Теплота дыхания продукта",null,null,"qд, кДж/(кг сут)",{"$f":"CHOOSE(Списки!G14,Списки!K2,Списки!K3,Списки!K4,Списки!K5,Списки!K6,Списки!K7,Списки!K8,Списки!K9,Списки!K10,Списки!K11,Списки!K12,Списки!K13)","v":4}]
[null,null,"Удельный теплоприток через дверь",null,null,"qдв, кВт/м2",{"$f":"0.0024*(H7-H6)*(H7-H6)+0.1749*(H7-H6)","v":8.0543999999999993}]
[null,null,"Теплоёмкость тары",null,null,"Ст, кДж/(кг К)",{"$f":"CHOOSE(Списки!B16,Списки!D9,Списки!D10,Списки!D11,Списки!D12,Списки!D13,Списки!D14,Списки!D15)","v":1.67}]
[]
[null,null,"Теплопритоки по составляющим:"]
["1.)","Через изоляцию стен и потолка",null,null,null,"Qст, Вт",{"$f":"G38*G35*(H7-H6)","v":8640},{"$f":"G48/G58","v":0.16674616377991672}]
["2.)","Через изоляцию пола",null,null,null,"Qпол, Вт",{"$f":"G39*G36*(J31-H6)","v":22950},{"$f":"G49/G58","v":0.44291949754040377}]
["3.)","На охлаждение продукта",null,null,null,"Qохл, Вт",{"$f":"IF(H15<0, 0, IF(H16<=0, H17*24/H18*G40*(H15-0)/(24*3600)*1000, H17*24/H18*G40*(H15-H16)/(24*3600)*1000))","v":6643.5185185185173},{"$f":"G50/G58","v":0.12821541978747666}]
["4.)","На замораживание продукта",null,null,null,"Qзам, Вт",{"$f":"IF(OR(H15<0, H16>=0), 0, H17*24/H18*G42/(24*3600)*1000)","v":0},{"$f":"G51/G58","v":0}]
["5.)","На дальнейшее охлаждение продукта",null,null,null,"Qдзам, Вт",{"$f":"IF(H16>0, 0, IF(H15>0, H17*24/H18*G41*(0-H16)/(24*3600)*1000,  H17*24/H18*G41*(H15-H16)/(24*3600)*1000))","v":0},{"$f":"G52/G58","v":0}]
["6.)","На дыхание продуктов",null,null,null,"Qдых, Вт",{"$f":"IF(H6>0, H20*24/H18*G43/(24*3600)*1000, 0)","v":0},{"$f":"G53/G58","v":0}]
["7.)","Теплопритоки через открытую дверь",null,null,null,"Qдверь, Вт",{"$f":"J14*G44*1000*G37*(1-J26)*(0.5*H13+0.5)","v":8698.7519999999986},{"$f":"G54/G58","v":0.16788003769362012}]
["8.)","Теплопритоки от вентиляции",null,null,null,"Qвент, Вт",{"$f":"G34*'Свойства воздуха'!D30*H25*'Свойства воздуха'!D28*1000/(24*3600)","v":2716.3478213333333},{"$f":"G55/G58","v":5.2423678090193049E-2}]
["9.)","Теплопритоки от погрузчиков",null,null,null,"Qпогр, Вт",{"$f":"H21*6500*H22/H18","v":2166.6666666666665},{"$f":"G56/G58","v":4.1815203108389605E-2}]
["10.)","На охлаждение тары",null,null,null,"Qтар, Вт",{"$f":"H17*24/H18*H24/100*G45*(H15-H16)/(24*3600)*1000","v":0},{"$f":"G57/G58","v":0}]
[null,null,null,null,null,"Итого:",{"$f":"SUM(G48:G57)","v":51815.285006518519},{"$f":"SUM(H48:H57)","v":1}]
[]
["Рекомендуемая холодопроизводительность составляет: ",null,null,null,null,null,{"$f":"G58/0.75*1.1","v":75995.75134289384},"Вт"]

{"sheet":"Цикл и аппараты","index":2,"n_rows":9,"n_cols":9,"rows_kept":9,"cut":false,"hidden":true,"merged":[[6,0,6,2],[1,5,1,6],[1,0,1,3],[4,0,4,2],[5,0,5,2],[3,0,3,2],[2,0,2,2]]}
[]
["Параметры холодильного цикла:",null,null,null,null,"Параметры комрессора:"]
["Используемый фреон",null,null,"R22",null,"Энтальпия в т.1п","кДж/кг",{"$f":"-0.001*D5*D5+0.4571*D5+425.37","v":426.73230000000001}]
["Величина перегрева на всасывании, К",null,null,30,null,"Энтальпия в т.4","кДж/кг",{"$f":"0.0016*D7*D7+1.1367*D7+200.94","v":261.77499999999998}]
["Температура кипения, То",null,null,{"$f":"Теплопритоки!H6-Теплопритоки!C30","v":3},null,"Уд. холодопр-ть","кДж/кг",{"$f":"H3-H4","v":164.95730000000003}]
["Температура всасывания, Твс",null,null,{"$f":"D5+D4","v":33},null,"Уд. объём на всас.","м3/кг",0.16,{"$f":"-0.0000005*D6*D6*D6+0.00007*D6*D6-0.001*D6+0.0518","v":7.7061500000000005E-2}]
["Температура конденсации, Тк",null,null,{"$f":"Теплопритоки!H7+15","v":50},null,"Коэф. подачи к-ра","-",0.7]
[null,null,null,null,null,"Коэф. запаса к-ра","-",1.1499999999999999]
[null,null,null,null,null,"Теор. объём. пр-ть","м3/с",{"$f":"1.15*Теплопритоки!G58*H6/H5/1000/H7*3600","v":297.24094649531264}]

{"sheet":"Списки","index":3,"n_rows":39,"n_cols":11,"rows_kept":39,"cut":false,"hidden":true,"merged":[[38,1,38,2],[35,1,35,2],[36,1,36,2],[37,1,37,2],[32,1,32,2],[30,1,30,2],[30,6,30,7],[26,6,26,7],[27,6,27,7],[28,6,28,7],[29,6,29,7],[25,1,25,2],[26,1,26,2],[29,1,29,2],[27,1,27,2],[28,1,28,2],[22,1,22,2],[18,1,18,2],[20,1,20,2],[21,1,21,2],[19,1,19,2],[0,1,0,2],[4,1,4,2],[1,1,1,2],[2,1,2,2],[3,1,3,2],[15,1,15,2],[10,1,10,2],[7,1,7,2],[8,1,8,2],[9,1,9,2],[11,1,11,2],[12,1,12,2],[13,1,13,2],[14,1,14,2]]}
[null,"Назначение камеры",null,"b",null,null,"Вид продукта","C1","C2","q3","qд"]
[1,"Хранение",null,0.15,null,1,"Сало, жир",1.5,1.1000000000000001,68,0]
[2,"Распределение",null,0.3,null,2,"Мясо, рыба, птица",3.3,1.8,246,0]
[3,"Хол. обработка",null,0.1,null,3,"Колбаса",3.7,2.2999999999999998,216,0]
[null,2,null,null,null,4,"Овощи",4.0999999999999996,2.1,319,4]
[null,null,null,null,null,5,"Фрукты 1 (бананы, груша, вишня...)",3.8,1.8,251,10]
[null,null,null,null,null,6,"Фрукты 2 (яблоки, цитрусовые...)",3.8,1.9,290,1.9]
[null,"Материал тары",null,"C, кДж/(кг К)",null,7,"Молоко",3.8,2.5,290,0]
[1,"Отсутствует",null,0,null,8,"Мороженое",2.9,1.6,207,0]
[2,"Алюминий",null,0.84,null,9,"Сыр",2.1,1.3,126,0]
[3,"Дерево",null,2.5099999999999998,null,10,"Шоколад",3.18,3.18,126,0]
[4,"Картон",null,1.67,null,11,"Напитки",3.9,1.72,300,0]
[5,"Стекло",null,0.84,null,12,"Ягоды (черника, малина)",3.6,1.9,280,0]
[6,"Пластмасса",null,2.09,null,null,4]
[7,"Сталь",null,0.42]
[null,4]
[null,null,null,null,null,null,"Теплозащита двери камеры","h"]
[null,null,null,null,null,1,"Отсутствие теплозащиты",0]
[null,"Тип изоляции стен",null,"к, Вт/(м3 К)",null,2,"Тепловая завеса (шторы)",0.6]
[1,"Минеральная вата",null,{"$f":"0.06/Теплопритоки!H28*1000","v":0.33333333333333331},null,3,"Тепловой шлюз (тамбур)",0.8]
[2,"Пенополистирол  (ПСБ-С)",null,{"$f":"-0.3364*LN(Теплопритоки!H28)+ 1.9826","v":0.23568931536053328},null,4,"Тепловоздушный затвор",0.95]
[3,"Пенополиуретан (SPU, EKE)",null,{"$f":"19.604*POWER(Теплопритоки!H28, -0.9575)","v":0.13580672310531614},null,null,2]
[null,1]
[]
[]
[null,"Тип изоляции пола",null,"к, Вт/(м3 К)"]
[1,"Бетон",null,{"$f":"1.7/Теплопритоки!H30*1000","v":17},null,null,"Используемый фреон"]
[2,"Минеральная вата",null,{"$f":"0.06/Теплопритоки!H30*1000","v":0.6},null,1,"R22",null,{"$f":"0.06/Теплопритоки!M36*1000","v":{"$error":"#DIV/0!"}}]
[3,"Пенополистирол  (ПСБ-С)",null,{"$f":"-0.3364*LN(Теплопритоки!H30)+ 1.9826","v":0.43342074943360598},null,2,"R404A",null,{"$f":"-0.3364*LN(Теплопритоки!M36)+ 1.9826","v":{"$error":"#NUM!"}}]
[4,"Пенополиуретан (SPU-AL)",null,{"$f":"19.604*POWER(Теплопритоки!H30, -0.9575)","v":0.23842110356671387},null,3,"R12",null,{"$f":"19.604*POWER(Теплопритоки!M36, -0.9575)","v":{"$error":"#DIV/0!"}}]
[5,"Керамзитовая засыпка",null,{"$f":"0.2/Теплопритоки!H30*1000","v":2},null,null,1]
[]
[null,1]
[]
[]
[null,"Конструкция пола",null,"Tгр, оС"]
[1,"Оторван от грунта",null,{"$f":"Теплопритоки!H7","v":35}]
[2,"На грунте (подогрев)",null,6]
[null,2]

{"sheet":"Таблицы","index":4,"n_rows":36,"n_cols":15,"rows_kept":36,"cut":false,"hidden":true,"merged":[[0,2,0,3],[32,1,32,7]]}
[null,null,"dT=То.с. - Тохл"]
[null,"Данные Зеликовского и Каплана"]
[null,"dT, оС",42,30,20,12]
[null,"dиз, мм (ПХВ-1)",200,150,100,70]
[null,"dиз, мм (ПСБ-С)",150,100,70,50]
[null,"к, Вт/(м2К)",0.3,0.43,0.55000000000000004,0.67]
[]
[null,null,{"$f":"ROUND((3.3333*C3 + 5.8333)/10,0)*10","v":150},{"$f":"ROUND((3.3333*D3 + 5.8333)/10,0)*10","v":110},{"$f":"ROUND((3.3333*E3 + 5.8333)/10,0)*10","v":70},{"$f":"ROUND((3.3333*F3 + 5.8333)/10,0)*10","v":50}]
[null,null,{"$f":"-0.3364*LN(C5) + 1.9826","v":0.29702228706601974},{"$f":"-0.3364*LN(D5) + 1.9826","v":0.43342074943360598},{"$f":"-0.3364*LN(E5) + 1.9826","v":0.55340620057459544},{"$f":"-0.3364*LN(F5) + 1.9826","v":0.66659546097397171}]
[]
[null,"Данные по \"ROMA\""]
[null,"dиз, мм (ППУ)",200,170,140,120,100,80,60,45]
[null,"к, Вт/(м2К)",0.122,0.14299999999999999,0.17299999999999999,0.20100000000000001,0.24,0.29699999999999999,0.38900000000000001,0.50800000000000001]
[null,null,{"$f":"19.604*POWER(C12, -0.9575)","v":0.12277458448521471},{"$f":"19.604*POWER(D12, -0.9575)","v":0.14344646545368317},0.17275359733737383,0.20022977103934267,0.23842110356671387,0.2952133759930049,0.38883457173385577,0.51214591366968931]
[]
[]
[]
[]
[]
[]
[]
[]
[]
[]
[]
[]
[]
[]
[]
[]
[]
[]
[null,"Данные по плотности теплового потока через дверь",null,null,null,null,null,null,null,null,null,"Учёт количества дверей в камере"]
[null,"dТ, К",0,10,20,30,40,50,60,null,"Кол-во, шт",1,2,3,4]
[null,"qдв, кВт/м2",0,2.2000000000000002,4.5,7.4,11,null,null,null,"Коэфф-т",1,1.5,2,2.5]
[null,null,{"$f":"0.0024*C34*C34+0.1749*C34","v":0},{"$f":"0.0024*D34*D34+0.1749*D34","v":1.9890000000000001},4.4580000000000002,7.407,10.836,14.744999999999999,19.134,null,null,{"$f":"0.5*L34+0.5","v":1},{"$f":"0.5*M34+0.5","v":1.5},{"$f":"0.5*N34+0.5","v":2},{"$f":"0.5*O34+0.5","v":2.5}]

{"sheet":"R22","index":5,"n_rows":14,"n_cols":12,"rows_kept":14,"cut":false,"hidden":true,"merged":[]}
[]
[null,"То, оС","Фреон",-40,-35,-30,-25,-20,-15,-10,-5,0]
[null,"i1, кДж/кг","R22",387.93,390.3,392.61,394.85,397.03,399.13,401.14,403.07,404.9]
["dT=30","i1п, кДж/кг","R22",405.54,408.17,410.77,413.33,415.84,418.3,420.72,423.07,425.36]
[null,"u1п, м3/кг","R22",0.2346,0.18970000000000001,0.15490000000000001,0.12759999999999999,0.106,8.8800000000000004E-2,6.54E-2,5.5399999999999998E-2,5.4300000000000001E-2]
[]
[null,null,null,{"$f":"-0.0015*D2*D2+0.3637*D2+404.92","v":387.97200000000004},390.35300000000001,392.65899999999999,394.89,397.04599999999999,399.12700000000001,401.13300000000004,403.06400000000002,404.92]
[null,null,null,{"$f":"-0.001*D2*D2+0.4571*D2+425.37","v":405.48599999999999},408.1465,410.75700000000001,413.3175,415.82800000000003,418.2885,420.69900000000001,423.05950000000001,425.37]
[null,null,null,{"$f":"-0.0000005*D2*D2*D2+0.00007*D2*D2-0.001*D2+0.0518","v":0.23580000000000001},0.19398749999999998,0.1583,0.12836249999999999,0.1038,8.4237499999999993E-2,6.93E-2,5.8612499999999998E-2,5.1799999999999999E-2]
[]
[null,"Тк, оС","R22",30,35,40,45,50]
[null,"i3, кДж/кг","R22",236.5,242.73,249.01,255.38,261.85000000000002]
[]
[null,null,null,{"$f":"0.0016*D11*D11+1.1367*D11+200.94","v":236.48099999999999},{"$f":"0.0016*E11*E11+1.1367*E11+200.94","v":242.68450000000001},{"$f":"0.0016*F11*F11+1.1367*F11+200.94","v":248.96800000000002},{"$f":"0.0016*G11*G11+1.1367*G11+200.94","v":255.33150000000001},{"$f":"0.0016*H11*H11+1.1367*H11+200.94","v":261.77499999999998}]

{"sheet":"Свойсва продуктов","index":6,"n_rows":24,"n_cols":6,"rows_kept":24,"cut":false,"hidden":true,"merged":[[21,0,23,0],[0,0,0,4],[2,0,9,0],[10,0,17,0],[18,0,20,0]]}
["Физические характеристики пищевых продуктов"]
[]
["Мясные продукты","Продукт","С1, кДж/(кг К)","С2, кДж/(кг К)","qz, кДж/(кг сут)","qд, кДж/(кг сут)"]
[null,"Мясо (шпик, корейка, грудинка)",1.53,1.1000000000000001,68]
[null,"Бифштекс",3.2,1.67,231]
[null,"Баранина",3,1.86,216]
[null,"Свинина",2.13,1.3,128]
[null,"Колбаса",3.72,2.34,216]
[null,"Птица",3.3,1.76,246]
[null,"Рыба",3.26,1.74,245]
["Овощи и фрукты","Свёкла",3.77,1.92,293,3.1]
[null,"Капуста",3.8,1.96,307,"1.4 - 6.7"]
[null,"Огурцы",4.0599999999999996,2.0499999999999998,319,"-"]
[null,"Лук репчатый",3.68,1.93,293,"-"]
[null,"Томаты",3.94,2,312,"4.3 - 7.2"]
[null,"Яблоки",3.64,1.88,281,1.92]
[null,"Бананы",3.35,1.76,251,"-"]
[null,"Апельсины",3.77,1.92,288,1.68]
["Молочные","Масло ",1.38,1.05,53]
[null,"Сыр",2.1,1.3,126]
[null,"Мороженое",2.93,1.63,207]
["Прочее","Пиво",3.85,"-",300]
[null,"Хлеб",2.93,1.42,115]
[null,"Яйца",3.05,1.76,230]

{"sheet":"Свойства воздуха","index":7,"n_rows":30,"n_cols":9,"rows_kept":30,"cut":false,"hidden":true,"merged":[[29,0,29,2],[24,0,24,2],[26,0,26,2],[25,0,25,2],[27,0,27,2]]}
[]
["Свойства влажного насыщенного воздуха (при давлении 760 мм рт.ст.= 100 кПа)"]
[]
["t, оС","h, кДж/кг","hвл, кДж/кг",null,null,"hв, кДж/кг",null,"r, кг/м3"]
[null," Сухой воздух"," Вл. насыщ. воздух",null,null," Влажн. воздух","при j=80 %"]
[-40,-40.24,-40.049999999999997,{"$f":"1.0062*A6+0.0005","v":-40.247499999999995},{"$f":"0.0006*A6*A6*A6+0.0334*A6*A6+1.6759*A6+7.5345","v":-44.461499999999994},{"$f":"B6+(C6-B6)*D25","v":-40.088000000000001},{"$f":"0.0005*A6*A6*A6+0.0269*A6*A6+1.5431*A6+6.0019","v":-44.682099999999991},1.4950000000000001,{"$f":" 0.00001*A6*A6-0.005*A6+1.2745","v":1.4904999999999999}]
[-35,-35.21,-34.869999999999997,{"$f":"1.0062*A7+0.0005","v":-35.216499999999996},{"$f":"0.0006*A7*A7*A7+0.0334*A7*A7+1.6759*A7+7.5345","v":-35.931999999999995},{"$f":"B7+(C7-B7)*D25","v":-34.937999999999995},{"$f":"0.0005*A7*A7*A7+0.0269*A7*A7+1.5431*A7+6.0019","v":-36.491599999999998},1.464,{"$f":" 0.00001*A7*A7-0.005*A7+1.2745","v":1.4617499999999999}]
[-30,-30.18,-29.61,-30.185500000000001,-28.8825,{"$f":"B8+(C8-B8)*D25","v":-29.724},-29.581099999999999,1.4339999999999999,1.4335]
[-25,-25.18,-24.19,-25.154500000000002,-22.863,{"$f":"B9+(C9-B9)*D25","v":-24.388000000000002},-23.575600000000001,1.405,1.4057500000000001]
[-20,-20.12,-18.54,-20.1235,-17.423499999999997,{"$f":"B10+(C10-B10)*D25","v":-18.855999999999998},-18.100099999999998,1.377,1.3785000000000001]
[-15,-15.09,-12.55,-15.092499999999999,-12.113999999999997,{"$f":"B11+(C11-B11)*D25","v":-13.058},-12.779600000000002,1.351,1.35175]
[-10,-10.06,-6.04,-10.061499999999999,-6.4844999999999997,{"$f":"B12+(C12-B12)*D25","v":-6.8439999999999994},-7.2390999999999996,1.325,1.3254999999999999]
[-5,-5.03,1.21,-5.0305,-8.4999999999999964E-2,{"$f":"B13+(C13-B13)*D25","v":-3.7999999999999368E-2},-1.1035999999999992,1.2989999999999999,1.29975]
[0,0,9.56,5.0000000000000001E-4,7.5345000000000004,{"$f":"B14+(C14-B14)*D25","v":7.6480000000000006},6.0019,1.274,1.2745]
[5,5.03,18.760000000000002,5.0314999999999994,16.824000000000002,{"$f":"B15+(C15-B15)*D25","v":16.014000000000003},14.452400000000001,1.25,1.2497499999999999]
[10,10.06,29.53,10.0625,28.233499999999999,{"$f":"B16+(C16-B16)*D25","v":25.636000000000003},24.622899999999998,1.2270000000000001,1.2255]
[15,15.09,42.36,15.093500000000001,42.213000000000001,{"$f":"B17+(C17-B17)*D25","v":36.906000000000006},36.888399999999997,1.204,1.2017499999999999]
[20,20.12,57.9,20.124499999999998,59.212499999999999,{"$f":"B18+(C18-B18)*D25","v":50.344000000000008},51.623899999999999,1.181,1.1784999999999999]
[25,25.15,76.97,25.1555,79.682000000000002,{"$f":"B19+(C19-B19)*D25","v":66.605999999999995},69.204400000000007,1.1579999999999999,1.1557500000000001]
[30,30.19,100.64,30.186499999999999,104.0715,{"$f":"B20+(C20-B20)*D25","v":86.550000000000011},90.004900000000006,1.1359999999999999,1.1335]
[35,35.22,130.31,35.217500000000001,132.83099999999999,{"$f":"B21+(C21-B21)*D25","v":111.292},114.4004,1.121,1.11175]
[40,40.26,167.82,40.2485,166.41049999999998,{"$f":"B22+(C22-B22)*D25","v":142.30799999999999},142.76590000000002,1.0880000000000001,1.0905]
[]
[]
["Задаваемая влажность воздуха:",null,null,0.8]
["Энтальпия воздуха в камере, кДж/кг",null,null,{"$f":"0.0005*Теплопритоки!H6*Теплопритоки!H6*Теплопритоки!H6+0.0269*Теплопритоки!H6*Теплопритоки!H6+1.5431*Теплопритоки!H6+6.0019","v":10.886800000000001}]
["Энтальпия наружного воздуха, кДж/кг",null,null,{"$f":"0.0005*Теплопритоки!H7*Теплопритоки!H7*Теплопритоки!H7+0.0269*Теплопритоки!H7*Теплопритоки!H7+1.5431*Теплопритоки!H7+6.0019","v":114.4004}]
["Разность энтальпий, кДж/кг",null,null,{"$f":"D27-D26","v":103.5136}]
[]
["Плотность воздуха в камере, кг/м3",null,null,{"$f":" 0.00001*Теплопритоки!H6*Теплопритоки!H6-0.005*Теплопритоки!H6+1.2745","v":1.25959}]